Workbook

Sheet Janvier2013
A1: Nom | J1: Livre de caisse 2013
A2: adresse
A3: ville
A5: JOUR | E5: ENCAISSEMENTS | K5: SORTIES DE CAISSE | S5: SOLDE
B6: Nature Chiffre d'Affaires | E6: Nature encaissements | P6: Dépenses Esp. | R6: Total
B7: VTE A 10 % | C7: VTE ALCOOL | D7: Total | E7: Esp | F7: CB | G7: CHQ | H7: Tick. Restau | I7: Autres | J7: Total | K7: Rem. Esp. | L7: Rem. Chèques | M7: Rem. Tick. Restau | N7: Virements | O7: Rem. CB | P7: Montant | Q7: Nature
B8: Reprise solde antérieur | I8: 0 | M8: 0 | N8: 0 | S8: 0 | T8: 2011
A9: 1 | D9: =SUM(B9:C9) -> 0 | J9: =SUM(E9:I9) -> 0 | O9: =F9 -> 0 | R9: =SUM(K9:Q9) -> 0 | S9: =S8+J9-R9 -> 0
A10: 2 | D10: =SUM(B10:C10) -> 0 | J10: =SUM(E10:I10) -> 0 | O10: =F10 -> 0 | R10: =SUM(K10:Q10) -> 0 | S10: =S9+J10-R10 -> 0
A11: 3 | D11: =SUM(B11:C11) -> 0 | J11: =SUM(E11:I11) -> 0 | O11: =F11 -> 0 | R11: =SUM(K11:Q11) -> 0 | S11: =S10+J11-R11 -> 0
A12: 4 | D12: =SUM(B12:C12) -> 0 | J12: =SUM(E12:I12) -> 0 | O12: =F12 -> 0 | R12: =SUM(K12:Q12) -> 0 | S12: =S11+J12-R12 -> 0
A13: 5 | D13: =SUM(B13:C13) -> 0 | J13: =SUM(E13:I13) -> 0 | O13: =F13 -> 0 | R13: =SUM(K13:Q13) -> 0 | S13: =S12+J13-R13 -> 0
A14: 6 | D14: =SUM(B14:C14) -> 0 | J14: =SUM(E14:I14) -> 0 | O14: =F14 -> 0 | R14: =SUM(K14:Q14) -> 0 | S14: =S13+J14-R14 -> 0
A15: 7 | D15: =SUM(B15:C15) -> 0 | J15: =SUM(E15:I15) -> 0 | O15: =F15 -> 0 | R15: =SUM(K15:Q15) -> 0 | S15: =S14+J15-R15 -> 0
A16: 8 | D16: =SUM(B16:C16) -> 0 | J16: =SUM(E16:I16) -> 0 | O16: =F16 -> 0 | R16: =SUM(K16:Q16) -> 0 | S16: =S15+J16-R16 -> 0
A17: 9 | D17: =SUM(B17:C17) -> 0 | J17: =SUM(E17:I17) -> 0 | O17: =F17 -> 0 | R17: =SUM(K17:Q17) -> 0 | S17: =S16+J17-R17 -> 0
A18: 10 | D18: =SUM(B18:C18) -> 0 | J18: =SUM(E18:I18) -> 0 | O18: =F18 -> 0 | R18: =SUM(K18:Q18) -> 0 | S18: =S17+J18-R18 -> 0
A19: 11 | D19: =SUM(B19:C19) -> 0 | J19: =SUM(E19:I19) -> 0 | O19: =F19 -> 0 | R19: =SUM(K19:Q19) -> 0 | S19: =S18+J19-R19 -> 0
A20: 12 | D20: =SUM(B20:C20) -> 0 | J20: =SUM(E20:I20) -> 0 | O20: =F20 -> 0 | R20: =SUM(K20:Q20) -> 0 | S20: =S19+J20-R20 -> 0
... A39: 31 | D39: =SUM(B39:C39) -> 0 | J39: =SUM(E39:I39) -> 0 | O39: =F39 -> 0 | R39: =SUM(K39:Q39) -> 0 | S39: =S38+J39-R39 -> 0
A41: TOTAL | B41: =SUM(B9:B39) -> 0 | C41: =SUM(C9:C39) -> 0 | D41: =SUM(D9:D39) -> 0 | E41: =SUM(E9:E39) -> 0 | F41: =SUM(F9:F39) -> 0 | G41: =SUM(G9:G39) -> 0 | H41: =SUM(H9:H39) -> 0 | I41: =SUM(I9:I39) -> 0 | ... R41: =SUM(R9:R39) -> 0 | S41: =S8+J41-R41 -> 0

Sheet Fevrier2013
A1: =Janvier2013!A1 -> Nom | J1: =Janvier2013!J1 -> Livre de caisse 2013
A2: =Janvier2013!A2 -> adresse
A3: =Janvier2013!A3 -> ville
A5: JOUR | E5: ENCAISSEMENTS | K5: SORTIES DE CAISSE | S5: SOLDE
B6: Nature Chiffre d'Affaires | E6: Nature encaissements | P6: Dépenses Esp. | R6: Total
B7: VTE A 10 % | C7: VTE ALCOOL | D7: Total | E7: Esp | F7: CB | G7: CHQ | H7: Tick. Restau | I7: Autres | J7: Total | K7: Rem. Esp. | L7: Rem. Chèques | M7: Rem. Tick. Restau | N7: Virements | O7: Rem. CB | P7: Montant | Q7: Nature
B8: Reprise solde antérieur | I8: 0 | M8: 0 | N8: 0 | S8: =Janvier2013!S41 -> 0
A9: 1 | D9: =SUM(B9:C9) -> 0 | I9: - | J9: =SUM(E9:I9) -> 0 | O9: =F9 -> 0 | R9: =SUM(K9:Q9) -> 0 | S9: =S8+J9-R9 -> 0
A10: 2 | D10: =SUM(B10:C10) -> 0 | J10: =SUM(E10:I10) -> 0 | O10: =F10 -> 0 | R10: =SUM(K10:Q10) -> 0 | S10: =S9+J10-R10 -> 0
A11: 3 | D11: =SUM(B11:C11) -> 0 | J11: =SUM(E11:I11) -> 0 | O11: =F11 -> 0 | R11: =SUM(K11:Q11) -> 0 | S11: =S10+J11-R11 -> 0
A12: 4 | D12: =SUM(B12:C12) -> 0 | J12: =SUM(E12:I12) -> 0 | O12: =F12 -> 0 | R12: =SUM(K12:Q12) -> 0 | S12: =S11+J12-R12 -> 0
A13: 5 | D13: =SUM(B13:C13) -> 0 | J13: =SUM(E13:I13) -> 0 | O13: =F13 -> 0 | R13: =SUM(K13:Q13) -> 0 | S13: =S12+J13-R13 -> 0
A14: 6 | D14: =SUM(B14:C14) -> 0 | J14: =SUM(E14:I14) -> 0 | O14: =F14 -> 0 | R14: =SUM(K14:Q14) -> 0 | S14: =S13+J14-R14 -> 0
A15: 7 | D15: =SUM(B15:C15) -> 0 | J15: =SUM(E15:I15) -> 0 | O15: =F15 -> 0 | R15: =SUM(K15:Q15) -> 0 | S15: =S14+J15-R15 -> 0
A16: 8 | D16: =SUM(B16:C16) -> 0 | J16: =SUM(E16:I16) -> 0 | O16: =F16 -> 0 | R16: =SUM(K16:Q16) -> 0 | S16: =S15+J16-R16 -> 0
A17: 9 | D17: =SUM(B17:C17) -> 0 | J17: =SUM(E17:I17) -> 0 | O17: =F17 -> 0 | R17: =SUM(K17:Q17) -> 0 | S17: =S16+J17-R17 -> 0
A18: 10 | D18: =SUM(B18:C18) -> 0 | J18: =SUM(E18:I18) -> 0 | O18: =F18 -> 0 | R18: =SUM(K18:Q18) -> 0 | S18: =S17+J18-R18 -> 0
A19: 11 | D19: =SUM(B19:C19) -> 0 | J19: =SUM(E19:I19) -> 0 | O19: =F19 -> 0 | R19: =SUM(K19:Q19) -> 0 | S19: =S18+J19-R19 -> 0
A20: 12 | D20: =SUM(B20:C20) -> 0 | J20: =SUM(E20:I20) -> 0 | O20: =F20 -> 0 | R20: =SUM(K20:Q20) -> 0 | S20: =S19+J20-R20 -> 0
A21: 13 | D21: =SUM(B21:C21) -> 0 | J21: =SUM(E21:I21) -> 0 | O21: =F21 -> 0 | R21: =SUM(K21:Q21) -> 0 | S21: =S20+J21-R21 -> 0
... A39: 31 | D39: =SUM(B39:C39) -> 0 | J39: =SUM(E39:I39) -> 0 | O39: =F39 -> 0 | R39: =SUM(K39:Q39) -> 0 | S39: =S38+J39-R39 -> 0
A41: TOTAL | B41: =SUM(B9:B39) -> 0 | C41: =SUM(C9:C39) -> 0 | D41: =SUM(D9:D39) -> 0 | E41: =SUM(E9:E39) -> 0 | F41: =SUM(F9:F39) -> 0 | G41: =SUM(G9:G39) -> 0 | H41: =SUM(H9:H39) -> 0 | I41: =SUM(I9:I39) -> 0 | ... R41: =SUM(R9:R39) -> 0 | S41: =S8+J41-R41 -> 0

Sheet Mars2013
A1: =Janvier2013!A1 -> Nom | J1: =Janvier2013!J1 -> Livre de caisse 2013
A2: =Janvier2013!A2 -> adresse
A3: =Janvier2013!A3 -> ville
A5: JOUR | E5: ENCAISSEMENTS | K5: SORTIES DE CAISSE | S5: SOLDE
B6: Nature Chiffre d'Affaires | E6: Nature encaissements | P6: Dépenses Esp. | R6: Total
B7: VTE A 10 % | C7: VTE ALCOOL | D7: Total | E7: Esp | F7: CB | G7: CHQ | H7: Tick. Restau | I7: Autres | J7: Total | K7: Rem. Esp. | L7: Rem. Chèques | M7: Rem. Tick. Restau | N7: Virements | O7: Rem. CB | P7: Montant | Q7: Nature
B8: Reprise solde antérieur | I8: 0 | M8: 0 | N8: 0 | S8: =Fevrier2013!S41 -> 0
A9: 1 | D9: =SUM(B9:C9) -> 0 | J9: =SUM(E9:I9) -> 0 | O9: =F9 -> 0 | R9: =SUM(K9:Q9) -> 0 | S9: =S8+J9-R9 -> 0
A10: 2 | D10: =SUM(B10:C10) -> 0 | J10: =SUM(E10:I10) -> 0 | O10: =F10 -> 0 | R10: =SUM(K10:Q10) -> 0 | S10: =S9+J10-R10 -> 0
A11: 3 | D11: =SUM(B11:C11) -> 0 | J11: =SUM(E11:I11) -> 0 | O11: =F11 -> 0 | R11: =SUM(K11:Q11) -> 0 | S11: =S10+J11-R11 -> 0
A12: 4 | D12: =SUM(B12:C12) -> 0 | J12: =SUM(E12:I12) -> 0 | O12: =F12 -> 0 | R12: =SUM(K12:Q12) -> 0 | S12: =S11+J12-R12 -> 0
A13: 5 | D13: =SUM(B13:C13) -> 0 | J13: =SUM(E13:I13) -> 0 | O13: =F13 -> 0 | R13: =SUM(K13:Q13) -> 0 | S13: =S12+J13-R13 -> 0
A14: 6 | D14: =SUM(B14:C14) -> 0 | J14: =SUM(E14:I14) -> 0 | O14: =F14 -> 0 | R14: =SUM(K14:Q14) -> 0 | S14: =S13+J14-R14 -> 0
A15: 7 | D15: =SUM(B15:C15) -> 0 | J15: =SUM(E15:I15) -> 0 | O15: =F15 -> 0 | R15: =SUM(K15:Q15) -> 0 | S15: =S14+J15-R15 -> 0
A16: 8 | D16: =SUM(B16:C16) -> 0 | J16: =SUM(E16:I16) -> 0 | O16: =F16 -> 0 | R16: =SUM(K16:Q16) -> 0 | S16: =S15+J16-R16 -> 0
A17: 9 | D17: =SUM(B17:C17) -> 0 | J17: =SUM(E17:I17) -> 0 | O17: =F17 -> 0 | R17: =SUM(K17:Q17) -> 0 | S17: =S16+J17-R17 -> 0
A18: 10 | D18: =SUM(B18:C18) -> 0 | J18: =SUM(E18:I18) -> 0 | O18: =F18 -> 0 | R18: =SUM(K18:Q18) -> 0 | S18: =S17+J18-R18 -> 0
A19: 11 | D19: =SUM(B19:C19) -> 0 | J19: =SUM(E19:I19) -> 0 | O19: =F19 -> 0 | R19: =SUM(K19:Q19) -> 0 | S19: =S18+J19-R19 -> 0
A20: 12 | D20: =SUM(B20:C20) -> 0 | J20: =SUM(E20:I20) -> 0 | O20: =F20 -> 0 | R20: =SUM(K20:Q20) -> 0 | S20: =S19+J20-R20 -> 0
... A39: 31 | D39: =SUM(B39:C39) -> 0 | J39: =SUM(E39:I39) -> 0 | O39: =F39 -> 0 | R39: =SUM(K39:Q39) -> 0 | S39: =S38+J39-R39 -> 0
A41: TOTAL | B41: =SUM(B9:B39) -> 0 | C41: =SUM(C9:C39) -> 0 | D41: =SUM(D9:D39) -> 0 | E41: =SUM(E9:E39) -> 0 | F41: =SUM(F9:F39) -> 0 | G41: =SUM(G9:G39) -> 0 | H41: =SUM(H9:H39) -> 0 | I41: =SUM(I9:I39) -> 0 | ... R41: =SUM(R9:R39) -> 0 | S41: =S8+J41-R41 -> 0

Sheet Avril2013
A1: =Janvier2013!A1 -> Nom | J1: =Janvier2013!J1 -> Livre de caisse 2013
A2: =Janvier2013!A2 -> adresse
A3: =Janvier2013!A3 -> ville
A5: JOUR | E5: ENCAISSEMENTS | K5: SORTIES DE CAISSE | S5: SOLDE
B6: Nature Chiffre d'Affaires | E6: Nature encaissements | P6: Dépenses Esp. | R6: Total
B7: VTE A 10 % | C7: VTE ALCOOL | D7: Total | E7: Esp | F7: CB | G7: CHQ | H7: Tick. Restau | I7: Autres | J7: Total | K7: Rem. Esp. | L7: Rem. Chèques | M7: Rem. Tick. Restau | N7: Virements | O7: Rem. CB | P7: Montant | Q7: Nature
B8: Reprise solde antérieur | I8: 0 | M8: 0 | N8: 0 | S8: =Mars2013!S41 -> 0
A9: 1 | D9: =SUM(B9:C9) -> 0 | I9: - | J9: =SUM(E9:I9) -> 0 | O9: =F9 -> 0 | R9: =SUM(K9:Q9) -> 0 | S9: =S8+J9-R9 -> 0
A10: 2 | D10: =SUM(B10:C10) -> 0 | J10: =SUM(E10:I10) -> 0 | O10: =F10 -> 0 | R10: =SUM(K10:Q10) -> 0 | S10: =S9+J10-R10 -> 0
A11: 3 | D11: =SUM(B11:C11) -> 0 | J11: =SUM(E11:I11) -> 0 | O11: =F11 -> 0 | R11: =SUM(K11:Q11) -> 0 | S11: =S10+J11-R11 -> 0
A12: 4 | D12: =SUM(B12:C12) -> 0 | J12: =SUM(E12:I12) -> 0 | O12: =F12 -> 0 | R12: =SUM(K12:Q12) -> 0 | S12: =S11+J12-R12 -> 0
A13: 5 | D13: =SUM(B13:C13) -> 0 | J13: =SUM(E13:I13) -> 0 | O13: =F13 -> 0 | R13: =SUM(K13:Q13) -> 0 | S13: =S12+J13-R13 -> 0
A14: 6 | D14: =SUM(B14:C14) -> 0 | J14: =SUM(E14:I14) -> 0 | O14: =F14 -> 0 | R14: =SUM(K14:Q14) -> 0 | S14: =S13+J14-R14 -> 0
A15: 7 | D15: =SUM(B15:C15) -> 0 | J15: =SUM(E15:I15) -> 0 | O15: =F15 -> 0 | R15: =SUM(K15:Q15) -> 0 | S15: =S14+J15-R15 -> 0
A16: 8 | D16: =SUM(B16:C16) -> 0 | J16: =SUM(E16:I16) -> 0 | O16: =F16 -> 0 | R16: =SUM(K16:Q16) -> 0 | S16: =S15+J16-R16 -> 0
A17: 9 | D17: =SUM(B17:C17) -> 0 | J17: =SUM(E17:I17) -> 0 | O17: =F17 -> 0 | R17: =SUM(K17:Q17) -> 0 | S17: =S16+J17-R17 -> 0
A18: 10 | D18: =SUM(B18:C18) -> 0 | J18: =SUM(E18:I18) -> 0 | O18: =F18 -> 0 | R18: =SUM(K18:Q18) -> 0 | S18: =S17+J18-R18 -> 0
A19: 11 | D19: =SUM(B19:C19) -> 0 | J19: =SUM(E19:I19) -> 0 | O19: =F19 -> 0 | R19: =SUM(K19:Q19) -> 0 | S19: =S18+J19-R19 -> 0
A20: 12 | D20: =SUM(B20:C20) -> 0 | J20: =SUM(E20:I20) -> 0 | O20: =F20 -> 0 | R20: =SUM(K20:Q20) -> 0 | S20: =S19+J20-R20 -> 0
A21: 13 | D21: =SUM(B21:C21) -> 0 | J21: =SUM(E21:I21) -> 0 | O21: =F21 -> 0 | R21: =SUM(K21:Q21) -> 0 | S21: =S20+J21-R21 -> 0
... A39: 31 | D39: =SUM(B39:C39) -> 0 | J39: =SUM(E39:I39) -> 0 | O39: =F39 -> 0 | R39: =SUM(K39:Q39) -> 0 | S39: =S38+J39-R39 -> 0
A41: TOTAL | B41: =SUM(B9:B39) -> 0 | C41: =SUM(C9:C39) -> 0 | D41: =SUM(D9:D39) -> 0 | E41: =SUM(E9:E39) -> 0 | F41: =SUM(F9:F39) -> 0 | G41: =SUM(G9:G39) -> 0 | H41: =SUM(H9:H39) -> 0 | I41: =SUM(I9:I39) -> 0 | ... R41: =SUM(R9:R39) -> 0 | S41: =S8+J41-R41 -> 0

Sheet Mai2013
A1: =Janvier2013!A1 -> Nom | J1: =Janvier2013!J1 -> Livre de caisse 2013
A2: =Janvier2013!A2 -> adresse
A3: =Janvier2013!A3 -> ville
A5: JOUR | E5: ENCAISSEMENTS | K5: SORTIES DE CAISSE | S5: SOLDE
B6: Nature Chiffre d'Affaires | E6: Nature encaissements | P6: Dépenses Esp. | R6: Total
B7: VTE A 10 % | C7: VTE ALCOOL | D7: Total | E7: Esp | F7: CB | G7: CHQ | H7: Tick. Restau | I7: Autres | J7: Total | K7: Rem. Esp. | L7: Rem. Chèques | M7: Rem. Tick. Restau | N7: Virements | O7: Rem. CB | P7: Montant | Q7: Nature
B8: Reprise solde antérieur | I8: 0 | M8: 0 | N8: 0 | S8: =Avril2013!S41 -> 0
A9: 1 | D9: =SUM(B9:C9) -> 0 | I9: - | J9: =SUM(E9:I9) -> 0 | O9: =F9 -> 0 | R9: =SUM(K9:Q9) -> 0 | S9: =S8+J9-R9 -> 0
A10: 2 | D10: =SUM(B10:C10) -> 0 | J10: =SUM(E10:I10) -> 0 | O10: =F10 -> 0 | R10: =SUM(K10:Q10) -> 0 | S10: =S9+J10-R10 -> 0
A11: 3 | D11: =SUM(B11:C11) -> 0 | J11: =SUM(E11:I11) -> 0 | O11: =F11 -> 0 | R11: =SUM(K11:Q11) -> 0 | S11: =S10+J11-R11 -> 0
A12: 4 | D12: =SUM(B12:C12) -> 0 | J12: =SUM(E12:I12) -> 0 | O12: =F12 -> 0 | R12: =SUM(K12:Q12) -> 0 | S12: =S11+J12-R12 -> 0
A13: 5 | D13: =SUM(B13:C13) -> 0 | J13: =SUM(E13:I13) -> 0 | O13: =F13 -> 0 | R13: =SUM(K13:Q13) -> 0 | S13: =S12+J13-R13 -> 0
A14: 6 | D14: =SUM(B14:C14) -> 0 | J14: =SUM(E14:I14) -> 0 | O14: =F14 -> 0 | R14: =SUM(K14:Q14) -> 0 | S14: =S13+J14-R14 -> 0
A15: 7 | D15: =SUM(B15:C15) -> 0 | J15: =SUM(E15:I15) -> 0 | O15: =F15 -> 0 | R15: =SUM(K15:Q15) -> 0 | S15: =S14+J15-R15 -> 0
A16: 8 | D16: =SUM(B16:C16) -> 0 | J16: =SUM(E16:I16) -> 0 | O16: =F16 -> 0 | R16: =SUM(K16:Q16) -> 0 | S16: =S15+J16-R16 -> 0
A17: 9 | D17: =SUM(B17:C17) -> 0 | J17: =SUM(E17:I17) -> 0 | O17: =F17 -> 0 | R17: =SUM(K17:Q17) -> 0 | S17: =S16+J17-R17 -> 0
A18: 10 | D18: =SUM(B18:C18) -> 0 | J18: =SUM(E18:I18) -> 0 | O18: =F18 -> 0 | R18: =SUM(K18:Q18) -> 0 | S18: =S17+J18-R18 -> 0
A19: 11 | D19: =SUM(B19:C19) -> 0 | J19: =SUM(E19:I19) -> 0 | O19: =F19 -> 0 | R19: =SUM(K19:Q19) -> 0 | S19: =S18+J19-R19 -> 0
A20: 12 | D20: =SUM(B20:C20) -> 0 | J20: =SUM(E20:I20) -> 0 | O20: =F20 -> 0 | R20: =SUM(K20:Q20) -> 0 | S20: =S19+J20-R20 -> 0
A21: 13 | D21: =SUM(B21:C21) -> 0 | J21: =SUM(E21:I21) -> 0 | O21: =F21 -> 0 | R21: =SUM(K21:Q21) -> 0 | S21: =S20+J21-R21 -> 0
... A39: 31 | D39: =SUM(B39:C39) -> 0 | J39: =SUM(E39:I39) -> 0 | O39: =F39 -> 0 | R39: =SUM(K39:Q39) -> 0 | S39: =S38+J39-R39 -> 0
A41: TOTAL | B41: =SUM(B9:B39) -> 0 | C41: =SUM(C9:C39) -> 0 | D41: =SUM(D9:D39) -> 0 | E41: =SUM(E9:E39) -> 0 | F41: =SUM(F9:F39) -> 0 | G41: =SUM(G9:G39) -> 0 | H41: =SUM(H9:H39) -> 0 | I41: =SUM(I9:I39) -> 0 | ... R41: =SUM(R9:R39) -> 0 | S41: =S8+J41-R41 -> 0

Sheet Juin2013
A1: =Janvier2013!A1 -> Nom | J1: =Janvier2013!J1 -> Livre de caisse 2013
A2: =Janvier2013!A2 -> adresse
A3: =Janvier2013!A3 -> ville
A5: JOUR | E5: ENCAISSEMENTS | K5: SORTIES DE CAISSE | S5: SOLDE
B6: Nature Chiffre d'Affaires | E6: Nature encaissements | P6: Dépenses Esp. | R6: Total
B7: VTE A 10 % | C7: VTE ALCOOL | D7: Total | E7: Esp | F7: CB | G7: CHQ | H7: Tick. Restau | I7: Autres | J7: Total | K7: Rem. Esp. | L7: Rem. Chèques | M7: Rem. Tick. Restau | N7: Virements | O7: Rem. CB | P7: Montant | Q7: Nature
B8: Reprise solde antérieur | I8: 0 | M8: 0 | N8: 0 | S8: ='Mai2013'!S41 -> 0
A9: 1 | D9: =SUM(B9:C9) -> 0 | J9: =SUM(E9:I9) -> 0 | O9: =F9 -> 0 | R9: =SUM(K9:Q9) -> 0 | S9: =S8+J9-R9 -> 0
A10: 2 | D10: =SUM(B10:C10) -> 0 | J10: =SUM(E10:I10) -> 0 | O10: =F10 -> 0 | R10: =SUM(K10:Q10) -> 0 | S10: =S9+J10-R10 -> 0
A11: 3 | D11: =SUM(B11:C11) -> 0 | J11: =SUM(E11:I11) -> 0 | O11: =F11 -> 0 | R11: =SUM(K11:Q11) -> 0 | S11: =S10+J11-R11 -> 0
A12: 4 | D12: =SUM(B12:C12) -> 0 | J12: =SUM(E12:I12) -> 0 | O12: =F12 -> 0 | R12: =SUM(K12:Q12) -> 0 | S12: =S11+J12-R12 -> 0
A13: 5 | D13: =SUM(B13:C13) -> 0 | J13: =SUM(E13:I13) -> 0 | O13: =F13 -> 0 | R13: =SUM(K13:Q13) -> 0 | S13: =S12+J13-R13 -> 0
A14: 6 | D14: =SUM(B14:C14) -> 0 | J14: =SUM(E14:I14) -> 0 | O14: =F14 -> 0 | R14: =SUM(K14:Q14) -> 0 | S14: =S13+J14-R14 -> 0
A15: 7 | D15: =SUM(B15:C15) -> 0 | J15: =SUM(E15:I15) -> 0 | O15: =F15 -> 0 | R15: =SUM(K15:Q15) -> 0 | S15: =S14+J15-R15 -> 0
A16: 8 | D16: =SUM(B16:C16) -> 0 | J16: =SUM(E16:I16) -> 0 | O16: =F16 -> 0 | R16: =SUM(K16:Q16) -> 0 | S16: =S15+J16-R16 -> 0
A17: 9 | D17: =SUM(B17:C17) -> 0 | J17: =SUM(E17:I17) -> 0 | O17: =F17 -> 0 | R17: =SUM(K17:Q17) -> 0 | S17: =S16+J17-R17 -> 0
A18: 10 | D18: =SUM(B18:C18) -> 0 | J18: =SUM(E18:I18) -> 0 | O18: =F18 -> 0 | R18: =SUM(K18:Q18) -> 0 | S18: =S17+J18-R18 -> 0
A19: 11 | D19: =SUM(B19:C19) -> 0 | J19: =SUM(E19:I19) -> 0 | O19: =F19 -> 0 | R19: =SUM(K19:Q19) -> 0 | S19: =S18+J19-R19 -> 0
A20: 12 | D20: =SUM(B20:C20) -> 0 | J20: =SUM(E20:I20) -> 0 | O20: =F20 -> 0 | R20: =SUM(K20:Q20) -> 0 | S20: =S19+J20-R20 -> 0
... A39: 31 | D39: =SUM(B39:C39) -> 0 | J39: =SUM(E39:I39) -> 0 | O39: =F39 -> 0 | R39: =SUM(K39:Q39) -> 0 | S39: =S38+J39-R39 -> 0
A41: TOTAL | B41: =SUM(B9:B39) -> 0 | C41: =SUM(C9:C39) -> 0 | D41: =SUM(D9:D39) -> 0 | E41: =SUM(E9:E39) -> 0 | F41: =SUM(F9:F39) -> 0 | G41: =SUM(G9:G39) -> 0 | H41: =SUM(H9:H39) -> 0 | I41: =SUM(I9:I39) -> 0 | ... R41: =SUM(R9:R39) -> 0 | S41: =S8+J41-R41 -> 0

Sheet Juillet2013
A1: =Janvier2013!A1 -> Nom | J1: =Janvier2013!J1 -> Livre de caisse 2013
A2: =Janvier2013!A2 -> adresse
A3: =Janvier2013!A3 -> ville
A5: JOUR | E5: ENCAISSEMENTS | K5: SORTIES DE CAISSE | S5: SOLDE
B6: Nature Chiffre d'Affaires | E6: Nature encaissements | P6: Dépenses Esp. | R6: Total
B7: VTE A 10 % | C7: VTE ALCOOL | D7: Total | E7: Esp | F7: CB | G7: CHQ | H7: Tick. Restau | I7: Autres | J7: Total | K7: Rem. Esp. | L7: Rem. Chèques | M7: Rem. Tick. Restau | N7: Virements | O7: Rem. CB | P7: Montant | Q7: Nature
B8: Reprise solde antérieur | I8: 0 | M8: 0 | N8: 0 | S8: =Juin2013!S41 -> 0
A9: 1 | D9: =SUM(B9:C9) -> 0 | J9: =SUM(E9:I9) -> 0 | O9: =F9 -> 0 | R9: =SUM(K9:Q9) -> 0 | S9: =S8+J9-R9 -> 0
A10: 2 | D10: =SUM(B10:C10) -> 0 | J10: =SUM(E10:I10) -> 0 | O10: =F10 -> 0 | R10: =SUM(K10:Q10) -> 0 | S10: =S9+J10-R10 -> 0
A11: 3 | D11: =SUM(B11:C11) -> 0 | J11: =SUM(E11:I11) -> 0 | O11: =F11 -> 0 | R11: =SUM(K11:Q11) -> 0 | S11: =S10+J11-R11 -> 0
A12: 4 | D12: =SUM(B12:C12) -> 0 | J12: =SUM(E12:I12) -> 0 | O12: =F12 -> 0 | R12: =SUM(K12:Q12) -> 0 | S12: =S11+J12-R12 -> 0
A13: 5 | D13: =SUM(B13:C13) -> 0 | J13: =SUM(E13:I13) -> 0 | O13: =F13 -> 0 | R13: =SUM(K13:Q13) -> 0 | S13: =S12+J13-R13 -> 0
A14: 6 | D14: =SUM(B14:C14) -> 0 | J14: =SUM(E14:I14) -> 0 | O14: =F14 -> 0 | R14: =SUM(K14:Q14) -> 0 | S14: =S13+J14-R14 -> 0
A15: 7 | D15: =SUM(B15:C15) -> 0 | J15: =SUM(E15:I15) -> 0 | O15: =F15 -> 0 | R15: =SUM(K15:Q15) -> 0 | S15: =S14+J15-R15 -> 0
A16: 8 | D16: =SUM(B16:C16) -> 0 | J16: =SUM(E16:I16) -> 0 | O16: =F16 -> 0 | R16: =SUM(K16:Q16) -> 0 | S16: =S15+J16-R16 -> 0
A17: 9 | D17: =SUM(B17:C17) -> 0 | J17: =SUM(E17:I17) -> 0 | O17: =F17 -> 0 | R17: =SUM(K17:Q17) -> 0 | S17: =S16+J17-R17 -> 0
A18: 10 | D18: =SUM(B18:C18) -> 0 | J18: =SUM(E18:I18) -> 0 | O18: =F18 -> 0 | R18: =SUM(K18:Q18) -> 0 | S18: =S17+J18-R18 -> 0
A19: 11 | D19: =SUM(B19:C19) -> 0 | J19: =SUM(E19:I19) -> 0 | O19: =F19 -> 0 | R19: =SUM(K19:Q19) -> 0 | S19: =S18+J19-R19 -> 0
A20: 12 | D20: =SUM(B20:C20) -> 0 | J20: =SUM(E20:I20) -> 0 | O20: =F20 -> 0 | R20: =SUM(K20:Q20) -> 0 | S20: =S19+J20-R20 -> 0
... A39: 31 | D39: =SUM(B39:C39) -> 0 | J39: =SUM(E39:I39) -> 0 | O39: =F39 -> 0 | R39: =SUM(K39:Q39) -> 0 | S39: =S38+J39-R39 -> 0
A41: TOTAL | B41: =SUM(B9:B39) -> 0 | C41: =SUM(C9:C39) -> 0 | D41: =SUM(D9:D39) -> 0 | E41: =SUM(E9:E39) -> 0 | F41: =SUM(F9:F39) -> 0 | G41: =SUM(G9:G39) -> 0 | H41: =SUM(H9:H39) -> 0 | I41: =SUM(I9:I39) -> 0 | ... R41: =SUM(R9:R39) -> 0 | S41: =S8+J41-R41 -> 0

Sheet Aout2013
A1: =Janvier2013!A1 -> Nom | J1: =Janvier2013!J1 -> Livre de caisse 2013
A2: =Janvier2013!A2 -> adresse
A3: =Janvier2013!A3 -> ville
A5: JOUR | E5: ENCAISSEMENTS | K5: SORTIES DE CAISSE | S5: SOLDE
B6: Nature Chiffre d'Affaires | E6: Nature encaissements | P6: Dépenses Esp. | R6: Total
B7: VTE A 10 % | C7: VTE ALCOOL | D7: Total | E7: Esp | F7: CB | G7: CHQ | H7: Tick. Restau | I7: Autres | J7: Total | K7: Rem. Esp. | L7: Rem. Chèques | M7: Rem. Tick. Restau | N7: Virements | O7: Rem. CB | P7: Montant | Q7: Nature
B8: Reprise solde antérieur | I8: 0 | M8: 0 | N8: 0 | S8: =Juillet2013!S41 -> 0
A9: 1 | D9: =SUM(B9:C9) -> 0 | I9: - | J9: =SUM(E9:I9) -> 0 | O9: =F9 -> 0 | R9: =SUM(K9:Q9) -> 0 | S9: =S8+J9-R9 -> 0
A10: 2 | D10: =SUM(B10:C10) -> 0 | J10: =SUM(E10:I10) -> 0 | O10: =F10 -> 0 | R10: =SUM(K10:Q10) -> 0 | S10: =S9+J10-R10 -> 0
A11: 3 | D11: =SUM(B11:C11) -> 0 | J11: =SUM(E11:I11) -> 0 | O11: =F11 -> 0 | R11: =SUM(K11:Q11) -> 0 | S11: =S10+J11-R11 -> 0
A12: 4 | D12: =SUM(B12:C12) -> 0 | J12: =SUM(E12:I12) -> 0 | O12: =F12 -> 0 | R12: =SUM(K12:Q12) -> 0 | S12: =S11+J12-R12 -> 0
A13: 5 | D13: =SUM(B13:C13) -> 0 | J13: =SUM(E13:I13) -> 0 | O13: =F13 -> 0 | R13: =SUM(K13:Q13) -> 0 | S13: =S12+J13-R13 -> 0
A14: 6 | D14: =SUM(B14:C14) -> 0 | J14: =SUM(E14:I14) -> 0 | O14: =F14 -> 0 | R14: =SUM(K14:Q14) -> 0 | S14: =S13+J14-R14 -> 0
A15: 7 | D15: =SUM(B15:C15) -> 0 | J15: =SUM(E15:I15) -> 0 | O15: =F15 -> 0 | R15: =SUM(K15:Q15) -> 0 | S15: =S14+J15-R15 -> 0
A16: 8 | D16: =SUM(B16:C16) -> 0 | J16: =SUM(E16:I16) -> 0 | O16: =F16 -> 0 | R16: =SUM(K16:Q16) -> 0 | S16: =S15+J16-R16 -> 0
A17: 9 | D17: =SUM(B17:C17) -> 0 | J17: =SUM(E17:I17) -> 0 | O17: =F17 -> 0 | R17: =SUM(K17:Q17) -> 0 | S17: =S16+J17-R17 -> 0
A18: 10 | D18: =SUM(B18:C18) -> 0 | J18: =SUM(E18:I18) -> 0 | O18: =F18 -> 0 | R18: =SUM(K18:Q18) -> 0 | S18: =S17+J18-R18 -> 0
A19: 11 | D19: =SUM(B19:C19) -> 0 | J19: =SUM(E19:I19) -> 0 | O19: =F19 -> 0 | R19: =SUM(K19:Q19) -> 0 | S19: =S18+J19-R19 -> 0
A20: 12 | D20: =SUM(B20:C20) -> 0 | J20: =SUM(E20:I20) -> 0 | O20: =F20 -> 0 | R20: =SUM(K20:Q20) -> 0 | S20: =S19+J20-R20 -> 0
A21: 13 | D21: =SUM(B21:C21) -> 0 | J21: =SUM(E21:I21) -> 0 | O21: =F21 -> 0 | R21: =SUM(K21:Q21) -> 0 | S21: =S20+J21-R21 -> 0
... A39: 31 | D39: =SUM(B39:C39) -> 0 | J39: =SUM(E39:I39) -> 0 | O39: =F39 -> 0 | R39: =SUM(K39:Q39) -> 0 | S39: =S38+J39-R39 -> 0
A41: TOTAL | B41: =SUM(B9:B39) -> 0 | C41: =SUM(C9:C39) -> 0 | D41: =SUM(D9:D39) -> 0 | E41: =SUM(E9:E39) -> 0 | F41: =SUM(F9:F39) -> 0 | G41: =SUM(G9:G39) -> 0 | H41: =SUM(H9:H39) -> 0 | I41: =SUM(I9:I39) -> 0 | ... R41: =SUM(R9:R39) -> 0 | S41: =S8+J41-R41 -> 0

Sheet Septembre2013
A1: =Janvier2013!A1 -> Nom | J1: =Janvier2013!J1 -> Livre de caisse 2013
A2: =Janvier2013!A2 -> adresse
A3: =Janvier2013!A3 -> ville
A5: JOUR | E5: ENCAISSEMENTS | K5: SORTIES DE CAISSE | S5: SOLDE
B6: Nature Chiffre d'Affaires | E6: Nature encaissements | P6: Dépenses Esp. | R6: Total
B7: VTE A 10 % | C7: VTE ALCOOL | D7: Total | E7: Esp | F7: CB | G7: CHQ | H7: Tick. Restau | I7: Autres | J7: Total | K7: Rem. Esp. | L7: Rem. Chèques | M7: Rem. Tick. Restau | N7: Virements | O7: Rem. CB | P7: Montant | Q7: Nature
B8: Reprise solde antérieur | I8: 0 | M8: 0 | N8: 0 | S8: =Aout2013!S41 -> 0
A9: 1 | D9: =SUM(B9:C9) -> 0 | J9: =SUM(E9:I9) -> 0 | O9: =F9 -> 0 | R9: =SUM(K9:Q9) -> 0 | S9: =S8+J9-R9 -> 0
A10: 2 | D10: =SUM(B10:C10) -> 0 | J10: =SUM(E10:I10) -> 0 | O10: =F10 -> 0 | R10: =SUM(K10:Q10) -> 0 | S10: =S9+J10-R10 -> 0
A11: 3 | D11: =SUM(B11:C11) -> 0 | J11: =SUM(E11:I11) -> 0 | O11: =F11 -> 0 | R11: =SUM(K11:Q11) -> 0 | S11: =S10+J11-R11 -> 0
A12: 4 | D12: =SUM(B12:C12) -> 0 | J12: =SUM(E12:I12) -> 0 | O12: =F12 -> 0 | R12: =SUM(K12:Q12) -> 0 | S12: =S11+J12-R12 -> 0
A13: 5 | D13: =SUM(B13:C13) -> 0 | J13: =SUM(E13:I13) -> 0 | O13: =F13 -> 0 | R13: =SUM(K13:Q13) -> 0 | S13: =S12+J13-R13 -> 0
A14: 6 | D14: =SUM(B14:C14) -> 0 | J14: =SUM(E14:I14) -> 0 | O14: =F14 -> 0 | R14: =SUM(K14:Q14) -> 0 | S14: =S13+J14-R14 -> 0
A15: 7 | D15: =SUM(B15:C15) -> 0 | J15: =SUM(E15:I15) -> 0 | O15: =F15 -> 0 | R15: =SUM(K15:Q15) -> 0 | S15: =S14+J15-R15 -> 0
A16: 8 | D16: =SUM(B16:C16) -> 0 | J16: =SUM(E16:I16) -> 0 | O16: =F16 -> 0 | R16: =SUM(K16:Q16) -> 0 | S16: =S15+J16-R16 -> 0
A17: 9 | D17: =SUM(B17:C17) -> 0 | J17: =SUM(E17:I17) -> 0 | O17: =F17 -> 0 | R17: =SUM(K17:Q17) -> 0 | S17: =S16+J17-R17 -> 0
A18: 10 | D18: =SUM(B18:C18) -> 0 | J18: =SUM(E18:I18) -> 0 | O18: =F18 -> 0 | R18: =SUM(K18:Q18) -> 0 | S18: =S17+J18-R18 -> 0
A19: 11 | D19: =SUM(B19:C19) -> 0 | J19: =SUM(E19:I19) -> 0 | O19: =F19 -> 0 | R19: =SUM(K19:Q19) -> 0 | S19: =S18+J19-R19 -> 0
A20: 12 | D20: =SUM(B20:C20) -> 0 | J20: =SUM(E20:I20) -> 0 | O20: =F20 -> 0 | R20: =SUM(K20:Q20) -> 0 | S20: =S19+J20-R20 -> 0
... A39: 31 | D39: =SUM(B39:C39) -> 0 | J39: =SUM(E39:I39) -> 0 | O39: =F39 -> 0 | R39: =SUM(K39:Q39) -> 0 | S39: =S38+J39-R39 -> 0
A41: TOTAL | B41: =SUM(B9:B39) -> 0 | C41: =SUM(C9:C39) -> 0 | D41: =SUM(D9:D39) -> 0 | E41: =SUM(E9:E39) -> 0 | F41: =SUM(F9:F39) -> 0 | G41: =SUM(G9:G39) -> 0 | H41: =SUM(H9:H39) -> 0 | I41: =SUM(I9:I39) -> 0 | ... R41: =SUM(R9:R39) -> 0 | S41: =S8+J41-R41 -> 0

Sheet Octobre2013
A1: =Janvier2013!A1 -> Nom | J1: =Janvier2013!J1 -> Livre de caisse 2013
A2: =Janvier2013!A2 -> adresse
A3: =Janvier2013!A3 -> ville
A5: JOUR | E5: ENCAISSEMENTS | K5: SORTIES DE CAISSE | S5: SOLDE
B6: Nature Chiffre d'Affaires | E6: Nature encaissements | P6: Dépenses Esp. | R6: Total
B7: VTE A 10 % | C7: VTE ALCOOL | D7: Total | E7: Esp | F7: CB | G7: CHQ | H7: Tick. Restau | I7: Autres | J7: Total | K7: Rem. Esp. | L7: Rem. Chèques | M7: Rem. Tick. Restau | N7: Virements | O7: Rem. CB | P7: Montant | Q7: Nature
B8: Reprise solde antérieur | I8: 0 | M8: 0 | N8: 0 | S8: =Septembre2013!S41 -> 0
A9: 1 | D9: =SUM(B9:C9) -> 0 | I9: - | J9: =SUM(E9:I9) -> 0 | O9: =F9 -> 0 | R9: =SUM(K9:Q9) -> 0 | S9: =S8+J9-R9 -> 0
A10: 2 | D10: =SUM(B10:C10) -> 0 | J10: =SUM(E10:I10) -> 0 | O10: =F10 -> 0 | R10: =SUM(K10:Q10) -> 0 | S10: =S9+J10-R10 -> 0
A11: 3 | D11: =SUM(B11:C11) -> 0 | J11: =SUM(E11:I11) -> 0 | O11: =F11 -> 0 | R11: =SUM(K11:Q11) -> 0 | S11: =S10+J11-R11 -> 0
A12: 4 | D12: =SUM(B12:C12) -> 0 | J12: =SUM(E12:I12) -> 0 | O12: =F12 -> 0 | R12: =SUM(K12:Q12) -> 0 | S12: =S11+J12-R12 -> 0
A13: 5 | D13: =SUM(B13:C13) -> 0 | J13: =SUM(E13:I13) -> 0 | O13: =F13 -> 0 | R13: =SUM(K13:Q13) -> 0 | S13: =S12+J13-R13 -> 0
A14: 6 | D14: =SUM(B14:C14) -> 0 | J14: =SUM(E14:I14) -> 0 | O14: =F14 -> 0 | R14: =SUM(K14:Q14) -> 0 | S14: =S13+J14-R14 -> 0
A15: 7 | D15: =SUM(B15:C15) -> 0 | J15: =SUM(E15:I15) -> 0 | O15: =F15 -> 0 | R15: =SUM(K15:Q15) -> 0 | S15: =S14+J15-R15 -> 0
A16: 8 | D16: =SUM(B16:C16) -> 0 | J16: =SUM(E16:I16) -> 0 | O16: =F16 -> 0 | R16: =SUM(K16:Q16) -> 0 | S16: =S15+J16-R16 -> 0
A17: 9 | D17: =SUM(B17:C17) -> 0 | J17: =SUM(E17:I17) -> 0 | O17: =F17 -> 0 | R17: =SUM(K17:Q17) -> 0 | S17: =S16+J17-R17 -> 0
A18: 10 | D18: =SUM(B18:C18) -> 0 | J18: =SUM(E18:I18) -> 0 | O18: =F18 -> 0 | R18: =SUM(K18:Q18) -> 0 | S18: =S17+J18-R18 -> 0
A19: 11 | D19: =SUM(B19:C19) -> 0 | J19: =SUM(E19:I19) -> 0 | O19: =F19 -> 0 | R19: =SUM(K19:Q19) -> 0 | S19: =S18+J19-R19 -> 0
A20: 12 | D20: =SUM(B20:C20) -> 0 | J20: =SUM(E20:I20) -> 0 | O20: =F20 -> 0 | R20: =SUM(K20:Q20) -> 0 | S20: =S19+J20-R20 -> 0
A21: 13 | D21: =SUM(B21:C21) -> 0 | J21: =SUM(E21:I21) -> 0 | O21: =F21 -> 0 | R21: =SUM(K21:Q21) -> 0 | S21: =S20+J21-R21 -> 0
... A39: 31 | D39: =SUM(B39:C39) -> 0 | J39: =SUM(E39:I39) -> 0 | O39: =F39 -> 0 | R39: =SUM(K39:Q39) -> 0 | S39: =S38+J39-R39 -> 0
A41: TOTAL | B41: =SUM(B9:B39) -> 0 | C41: =SUM(C9:C39) -> 0 | D41: =SUM(D9:D39) -> 0 | E41: =SUM(E9:E39) -> 0 | F41: =SUM(F9:F39) -> 0 | G41: =SUM(G9:G39) -> 0 | H41: =SUM(H9:H39) -> 0 | I41: =SUM(I9:I39) -> 0 | ... R41: =SUM(R9:R39) -> 0 | S41: =S8+J41-R41 -> 0

Sheet Novembre2013
A1: =Janvier2013!A1 -> Nom | J1: =Janvier2013!J1 -> Livre de caisse 2013
A2: =Janvier2013!A2 -> adresse
A3: =Janvier2013!A3 -> ville
A5: JOUR | E5: ENCAISSEMENTS | K5: SORTIES DE CAISSE | S5: SOLDE
B6: Nature Chiffre d'Affaires | E6: Nature encaissements | P6: Dépenses Esp. | R6: Total
B7: VTE A 10 % | C7: VTE ALCOOL | D7: Total | E7: Esp | F7: CB | G7: CHQ | H7: Tick. Restau | I7: Autres | J7: Total | K7: Rem. Esp. | L7: Rem. Chèques | M7: Rem. Tick. Restau | N7: Virements | O7: Rem. CB | P7: Montant | Q7: Nature
B8: Reprise solde antérieur | I8: 0 | M8: 0 | N8: 0 | S8: =Octobre2013!S41 -> 0
A9: 1 | D9: =SUM(B9:C9) -> 0 | J9: =SUM(E9:I9) -> 0 | O9: =F9 -> 0 | R9: =SUM(K9:Q9) -> 0 | S9: =S8+J9-R9 -> 0
A10: 2 | D10: =SUM(B10:C10) -> 0 | J10: =SUM(E10:I10) -> 0 | O10: =F10 -> 0 | R10: =SUM(K10:Q10) -> 0 | S10: =S9+J10-R10 -> 0
A11: 3 | D11: =SUM(B11:C11) -> 0 | J11: =SUM(E11:I11) -> 0 | O11: =F11 -> 0 | R11: =SUM(K11:Q11) -> 0 | S11: =S10+J11-R11 -> 0
A12: 4 | D12: =SUM(B12:C12) -> 0 | J12: =SUM(E12:I12) -> 0 | O12: =F12 -> 0 | R12: =SUM(K12:Q12) -> 0 | S12: =S11+J12-R12 -> 0
A13: 5 | D13: =SUM(B13:C13) -> 0 | J13: =SUM(E13:I13) -> 0 | O13: =F13 -> 0 | R13: =SUM(K13:Q13) -> 0 | S13: =S12+J13-R13 -> 0
A14: 6 | D14: =SUM(B14:C14) -> 0 | J14: =SUM(E14:I14) -> 0 | O14: =F14 -> 0 | R14: =SUM(K14:Q14) -> 0 | S14: =S13+J14-R14 -> 0
A15: 7 | D15: =SUM(B15:C15) -> 0 | J15: =SUM(E15:I15) -> 0 | O15: =F15 -> 0 | R15: =SUM(K15:Q15) -> 0 | S15: =S14+J15-R15 -> 0
A16: 8 | D16: =SUM(B16:C16) -> 0 | J16: =SUM(E16:I16) -> 0 | O16: =F16 -> 0 | R16: =SUM(K16:Q16) -> 0 | S16: =S15+J16-R16 -> 0
A17: 9 | D17: =SUM(B17:C17) -> 0 | J17: =SUM(E17:I17) -> 0 | O17: =F17 -> 0 | R17: =SUM(K17:Q17) -> 0 | S17: =S16+J17-R17 -> 0
A18: 10 | D18: =SUM(B18:C18) -> 0 | J18: =SUM(E18:I18) -> 0 | O18: =F18 -> 0 | R18: =SUM(K18:Q18) -> 0 | S18: =S17+J18-R18 -> 0
A19: 11 | D19: =SUM(B19:C19) -> 0 | J19: =SUM(E19:I19) -> 0 | O19: =F19 -> 0 | R19: =SUM(K19:Q19) -> 0 | S19: =S18+J19-R19 -> 0
A20: 12 | D20: =SUM(B20:C20) -> 0 | J20: =SUM(E20:I20) -> 0 | O20: =F20 -> 0 | R20: =SUM(K20:Q20) -> 0 | S20: =S19+J20-R20 -> 0
... A39: 31 | D39: =SUM(B39:C39) -> 0 | J39: =SUM(E39:I39) -> 0 | O39: =F39 -> 0 | R39: =SUM(K39:Q39) -> 0 | S39: =S38+J39-R39 -> 0
A41: TOTAL | B41: =SUM(B9:B39) -> 0 | C41: =SUM(C9:C39) -> 0 | D41: =SUM(D9:D39) -> 0 | E41: =SUM(E9:E39) -> 0 | F41: =SUM(F9:F39) -> 0 | G41: =SUM(G9:G39) -> 0 | H41: =SUM(H9:H39) -> 0 | I41: =SUM(I9:I39) -> 0 | ... R41: =SUM(R9:R39) -> 0 | S41: =S8+J41-R41 -> 0

Sheet Decembre2013
A1: =Janvier2013!A1 -> Nom | J1: =Janvier2013!J1 -> Livre de caisse 2013
A2: =Janvier2013!A2 -> adresse
A3: =Janvier2013!A3 -> ville
A5: JOUR | E5: ENCAISSEMENTS | K5: SORTIES DE CAISSE | S5: SOLDE
B6: Nature Chiffre d'Affaires | E6: Nature encaissements | P6: Dépenses Esp. | R6: Total
B7: VTE A 10% | C7: VTE ALCOOL | D7: Total | E7: Esp | F7: CB | G7: CHQ | H7: Tick. Restau | I7: Autres | J7: Total | K7: Rem. Esp. | L7: Rem. Chèques | M7: Rem. Tick. Restau | N7: Virements | O7: Rem. CB | P7: Montant | Q7: Nature
B8: Reprise solde antérieur | I8: 0 | M8: 0 | N8: 0 | S8: =Novembre2013!S41 -> 0
A9: 1 | D9: =SUM(B9:C9) -> 0 | J9: =SUM(E9:I9) -> 0 | O9: =F9 -> 0 | R9: =SUM(K9:Q9) -> 0 | S9: =S8+J9-R9 -> 0
A10: 2 | D10: =SUM(B10:C10) -> 0 | J10: =SUM(E10:I10) -> 0 | O10: =F10 -> 0 | R10: =SUM(K10:Q10) -> 0 | S10: =S9+J10-R10 -> 0
A11: 3 | D11: =SUM(B11:C11) -> 0 | J11: =SUM(E11:I11) -> 0 | O11: =F11 -> 0 | R11: =SUM(K11:Q11) -> 0 | S11: =S10+J11-R11 -> 0
A12: 4 | D12: =SUM(B12:C12) -> 0 | J12: =SUM(E12:I12) -> 0 | O12: =F12 -> 0 | R12: =SUM(K12:Q12) -> 0 | S12: =S11+J12-R12 -> 0
A13: 5 | D13: =SUM(B13:C13) -> 0 | J13: =SUM(E13:I13) -> 0 | O13: =F13 -> 0 | R13: =SUM(K13:Q13) -> 0 | S13: =S12+J13-R13 -> 0
A14: 6 | D14: =SUM(B14:C14) -> 0 | J14: =SUM(E14:I14) -> 0 | O14: =F14 -> 0 | R14: =SUM(K14:Q14) -> 0 | S14: =S13+J14-R14 -> 0
A15: 7 | D15: =SUM(B15:C15) -> 0 | J15: =SUM(E15:I15) -> 0 | O15: =F15 -> 0 | R15: =SUM(K15:Q15) -> 0 | S15: =S14+J15-R15 -> 0
A16: 8 | D16: =SUM(B16:C16) -> 0 | J16: =SUM(E16:I16) -> 0 | O16: =F16 -> 0 | R16: =SUM(K16:Q16) -> 0 | S16: =S15+J16-R16 -> 0
A17: 9 | D17: =SUM(B17:C17) -> 0 | J17: =SUM(E17:I17) -> 0 | O17: =F17 -> 0 | R17: =SUM(K17:Q17) -> 0 | S17: =S16+J17-R17 -> 0
A18: 10 | D18: =SUM(B18:C18) -> 0 | J18: =SUM(E18:I18) -> 0 | O18: =F18 -> 0 | R18: =SUM(K18:Q18) -> 0 | S18: =S17+J18-R18 -> 0
A19: 11 | D19: =SUM(B19:C19) -> 0 | J19: =SUM(E19:I19) -> 0 | O19: =F19 -> 0 | R19: =SUM(K19:Q19) -> 0 | S19: =S18+J19-R19 -> 0
A20: 12 | D20: =SUM(B20:C20) -> 0 | J20: =SUM(E20:I20) -> 0 | O20: =F20 -> 0 | R20: =SUM(K20:Q20) -> 0 | S20: =S19+J20-R20 -> 0
... A39: 31 | D39: =SUM(B39:C39) -> 0 | J39: =SUM(E39:I39) -> 0 | O39: =F39 -> 0 | R39: =SUM(K39:Q39) -> 0 | S39: =S38+J39-R39 -> 0
A41: TOTAL | B41: =SUM(B9:B39) -> 0 | C41: =SUM(C9:C39) -> 0 | D41: =SUM(D9:D39) -> 0 | E41: =SUM(E9:E39) -> 0 | F41: =SUM(F9:F39) -> 0 | G41: =SUM(G9:G39) -> 0 | H41: =SUM(H9:H39) -> 0 | I41: =SUM(I9:I39) -> 0 | ... R41: =SUM(R9:R39) -> 0 | S41: =S8+J41-R41 -> 0

Sheet Feuil1
