Workbook

Sheet INGREDIENTS
A1: TYPE | B1: PRODUIT | C1: UNITE | D1: PRIX € HT | E1: MARQUE | F1: CONDITIONNER | G1: DATE
A2: Pate | B2: Farine | C2: Kg | D2: 0.85 | J2: TVA
B3: Levure | C3: Kg | D3: 2 | J3: 0.055
A4: Bases | B4: Coulis de Tomate | C4: Kg | D4: 2 | K4: RECETTES 1 | M4: Kilos | N4: Prix de revient
B5: Crème Fraiche | C5: Kg | D5: 2 | L5: FARINE | M5: 1 | N5: =SUM(M5*INGREDIENTS!$D$2/1) -> 0.85
A6: Fromages | B6: Mozzarella cossette | C6: Kg | D6: 2 | L6: EAU | M6: 0.5 | N6: 0.01
B7: Mozzarella bloc | C7: Kg | D7: 2 | L7: Levure fraiche | M7: 0.014 | N7: =SUM(M7*INGREDIENTS!$D$3/1) -> 0.028
B8: Paremesan | C8: Kg | D8: 2 | L8: Huile d'olives | M8: 0.03 | N8: =SUM(M8*INGREDIENTS!$D$47/1) -> 0.06
B9: Chèvre | C9: Kg | D9: 2 | L9: Sel | M9: 15 | N9: 0.01
B10: Roquefort | C10: Kg | D10: 2 | M10: Total 3 patons | N10: =SUM(N5:N9) -> 0.958
B11: St Nectaire | C11: Kg | D11: 2 | M11: TOTAL 1 PATON | N11: =N10/3 -> 0.31933333
B12: Emmental | C12: Kg | D12: 2
A13: Légumes | B13: Tomates Cœur de B | C13: Kg | D13: 2
B14: Poivrons rouge | C14: Kg | D14: 2 | K14: Unité | L14: Produit Brut | M14: Pate | N14: Paton pizza
B15: Poivrons vert | C15: Kg | D15: 2 | K15: Gr | L15: 365 | M15: 750 | N15: 280
B16: Courgette | C16: Kg | D16: 2
B17: Piments Rouges | C17: Kg | D17: 2
B18: Oignons Jaunes | C18: Kg | D18: 2
B19: Oignons Rouges | C19: Kg | D19: 2
B20: Echalottes | C20: Kg | D20: 2
B21: Ail Viloet | C21: Kg | D21: 2 | K21: Renseigner les prix au Kilo pour chaque ingredient, etablir les recettes sur les bases rouges et blanche (Garniture Tomate 70 gr etc….) après les calculs sont automatiques.
B22: Champignon Paris | C22: Kg | D22: 2
B23: Cèpes | C23: Kg | D23: 2
B24: Roquette | C24: Kg | D24: 2
B25: Basilic | C25: Kg | D25: 2
B26: Persil frais | C26: Kg | D26: 2
B27: Ciboulette | C27: Kg | D27: 2
A28: Fruits | B28: Olives Verte | C28: Kg | D28: 2
B29: Olives Noir | C29: Kg | D29: 2
B30: Citron Jaune | C30: Kg | D30: 2
B31: Miel | C31: Kg | D31: 2
B32: Ananas | C32: Kg | D32: 2
A33: Viande poissons | B33: Bœuf | C33: Kg | D33: 2
B34: Poulet | C34: Kg | D34: 2
B35: Canard magret | C35: Kg | D35: 2
B36: Jambon Serano | C36: Kg | D36: 2
B37: Jambon blanc | C37: Kg | D37: 2
B38: Chorizo | C38: Kg | D38: 2
B39: Anchois | C39: Kg | D39: 2
B40: Saumon Filet | C40: Kg | D40: 2
...

Sheet BASES ROUGES
A1: DESIGNATION | B1: GARNITURES | D1: Qt gr | E1: Kilos | F1: COUT DE REVIENT € | H1: TOTAL REVIENT GARNITURES HT à 5,5% | J1: =SUM(F2:F8) -> 0.39 | N1: Prix moyen des Pizzas Rouges | P1: Pizza sur carte | Q1: Ø31 | R1: Prix de revient moyen bases rouges | T1: =(J3+J13+J24+J34+J44+J54+J64+J74+J84+J94+J104)/11 -> 0.96369697 | U1: TVA Reversée Moyen | X1: 0.18
A2: Recette 1 | B2: Tomate | D2: 80 | E2: =D2/1000 -> 0.08 | F2: =SUM(E2*INGREDIENTS!$D$4/1) -> 0.16 | H2: TOTAL REVIENT PATON HT à 5,5% | J2: =INGREDIENTS!$N$11 -> 0.31933333 | N2: =SUM((J5+J15+J26+J36+J46+J56+J66+J76+J86+J96+J106)/11) -> 5.8594976 | P2: 11 | U2: =SUM(J9,J19,J30,J40,J50,J60,J70,J80,J90,J100,J110)/P2 -> 0.26767237 | X2: =N2*X1 -> 1.0547096
B3: Mozzarella | D3: 100 | E3: =D3/1000 -> 0.1 | F3: =SUM(E3*INGREDIENTS!$D$6/1) -> 0.2 | H3: TOTAL PRIX DE REVIENT | J3: =SUM(J1+J2) -> 0.70933333
B4: Basilic | D4: 5 | E4: =D4/1000 -> 0.005 | F4: =SUM(E4*INGREDIENTS!$D$22/1) -> 0.01 | H4: % DE MARGE BRUTE | J4: 8.1
B5: Huile d'Olive | D5: 10 | E5: =D5/1000 -> 0.01 | F5: =SUM(E5*INGREDIENTS!$D$47/1) -> 0.02 | H5: PRIX DE VENTE TTC à 5,5% | J5: =SUM((J3*J4)+J3) -> 6.4549333 | N5: PIZZA | O5: Marges B | P5: Bénéfices b | Q5: Prix de vente | R5: Prix de revient
H6: BENEFICES BRUTS | J6: =SUM((J5-(J1+J2))) -> 5.7456 | N6: recette 1 | O6: =J4 -> 8.1 | P6: =J6 -> 5.7456 | Q6: =J5 -> 6.4549333 | R6: =J3 -> 0.70933333
H7: TVA | I7: TVA déductible | J7: =SUM(J1+J2)*INGREDIENTS!$J$3 -> 0.039013333 | N7: recette 2 | O7: =J14 -> 6.05 | P7: =J16 -> 6.5299667 | Q7: =J15 -> 7.6093 | R7: =J13 -> 1.0793333
I8: TVA Collectée | J8: =J5*INGREDIENTS!$J$3 -> 0.35502133 | N8: recette 3 | O8: =J25 -> 5.2 | P8: =J27 -> 4.0733333 | Q8: =J26 -> 4.8566667 | R8: =J24 -> 0.78333333
I9: TVA Reverssée | J9: =J8-J7 -> 0.316008 | N9: recette 4 | O9: =J35 -> 6.4 | P9: =J37 -> 5.7557333 | Q9: =J36 -> 6.6550667 | R9: =J34 -> 0.89933333
N10: recette 5 | O10: =J45 -> 3.58 | P10: =J47 -> 3.7924133 | Q10: =J46 -> 4.8517467 | R10: =J44 -> 1.0593333
A11: DESIGNATION | B11: GARNITURES | D11: Qt gr | E11: Kilos | F11: COUT DE REVIENT € | H11: TOTAL REVIENT GARNITURES HT à 5,5% | J11: =SUM(F12:F18) -> 0.76 | N11: recette 6 | O11: =J55 -> 4.68 | P11: =J57 -> 4.91088 | Q11: =J56 -> 5.9602133 | R11: =J54 -> 1.0493333
A12: Recette 2 | B12: Tomate | D12: 80 | E12: =D12/1000 -> 0.08 | F12: =SUM(E12*INGREDIENTS!$D$4/1) -> 0.16 | H12: TOTAL REVIENT PATON HT à 5,5% | J12: =INGREDIENTS!$N$11 -> 0.31933333 | N12: recette 7 | O12: =J65 -> 8 | P12: =J67 -> 7.6746667 | Q12: =J66 -> 8.634 | R12: =J64 -> 0.95933333
B13: Mozzarella | D13: 100 | E13: =D13/1000 -> 0.1 | F13: =SUM(E13*INGREDIENTS!$D$6/1) -> 0.2 | H13: TOTAL PRIX DE REVIENT | J13: =SUM(J11+J12) -> 1.0793333 | N13: recette 8 | O13: =J75 -> 4.15 | P13: =J77 -> 3.6658333 | Q13: =J76 -> 4.5491667 | R13: =J74 -> 0.88333333
B14: Champignons de Paris | D14: 100 | E14: =D14/1000 -> 0.1 | F14: =SUM(E14*INGREDIENTS!$D$22/1) -> 0.2 | H14: % DE MARGE BRUTE | J14: 6.05 | N14: recette 9 | O14: =J85 -> 4 | P14: =J87 -> 4.6373333 | Q14: =J86 -> 5.7966667 | R14: =J84 -> 1.1593333
B15: Jambon Blanc | D15: 100 | E15: =D15/1000 -> 0.1 | F15: =SUM(E15*INGREDIENTS!$D$37/1) -> 0.2 | H15: PRIX DE VENTE TTC à 5,5% | J15: =SUM((J13*J14)+J13) -> 7.6093 | N15: recette 10 | O15: =J95 -> 2.28 | P15: =J97 -> 2.41528 | Q15: =J96 -> 3.4746133 | R15: =J94 -> 1.0593333
H16: BENEFICES BRUTS | J16: =SUM((J15-(J11+J12))) -> 6.5299667 | N16: recette 11 | O16: =J105 -> 4.85 | P16: =J107 -> 4.6527667 | Q16: =J106 -> 5.6121 | R16: =J104 -> 0.95933333
H17: TVA | I17: TVA déductible | J17: =SUM(J11+J12)*INGREDIENTS!$J$3 -> 0.059363333
I18: TVA Collectée | J18: =J15*INGREDIENTS!$J$3 -> 0.4185115
I19: TVA Reverssée | J19: =J18-J17 -> 0.35914817
A22: DESIGNATION | B22: GARNITURES | D22: Qt gr | E22: Kilos | F22: COUT DE REVIENT € | H22: TOTAL REVIENT GARNITURES HT à 5,5% | J22: =SUM(F23:F29) -> 0.464
D23: 80 | E23: =D23/1000 -> 0.08 | F23: =SUM(E23*INGREDIENTS!$D$4/1) -> 0.16 | H23: TOTAL REVIENT PATON 190 GR HT à 5,5% | J23: =INGREDIENTS!$N$11 -> 0.31933333
D24: 100 | E24: =D24/1000 -> 0.1 | F24: =SUM(E24*INGREDIENTS!$D$6/1) -> 0.2 | H24: TOTAL PRIX DE REVIENT | J24: =SUM(J22+J23) -> 0.78333333
D25: 20 | E25: =D25/1000 -> 0.02 | F25: =SUM(E25*INGREDIENTS!$D$39/1) -> 0.04 | H25: % DE MARGE BRUTE | J25: 5.2
D26: 20 | E26: =D26/1000 -> 0.02 | F26: =SUM(E26*INGREDIENTS!$D$29/1) -> 0.04 | H26: PRIX DE VENTE TTC à 5,5% | J26: =SUM((J24*J25)+J24) -> 4.8566667
D27: 2 | E27: =D27/1000 -> 0.002 | F27: =SUM(E27*INGREDIENTS!$D$29/1) -> 0.004 | H27: BENEFICES BRUTS | J27: =SUM((J26-(J22+J23))) -> 4.0733333
D28: 10 | E28: =D28/1000 -> 0.01 | F28: =SUM(E28*INGREDIENTS!$D$29/1) -> 0.02 | H28: TVA | I28: TVA déductible | J28: =SUM(J22+J23)*INGREDIENTS!$J$3 -> 0.043083333
I29: TVA Collectée | J29: =J26*INGREDIENTS!$J$3 -> 0.26711667
I30: TVA Reverssée | J30: =J29-J28 -> 0.22403333
A32: DESIGNATION | B32: GARNITURES | D32: Qt gr | E32: Kilos | F32: COUT DE REVIENT € | H32: TOTAL REVIENT GARNITURES HT à 5,5% | J32: =SUM(F33:F39) -> 0.58
D33: 50 | E33: =D33/1000 -> 0.05 | F33: =SUM(E33*INGREDIENTS!$D$4/1) -> 0.1 | H33: TOTAL REVIENT PATON HT à 5,5% | J33: =INGREDIENTS!$N$11 -> 0.31933333
D34: 100 | E34: =D34/1000 -> 0.1 | F34: =SUM(E34*INGREDIENTS!$D$6/1) -> 0.2 | H34: TOTAL PRIX DE REVIENT | J34: =SUM(J32+J33) -> 0.89933333
D35: 80 | E35: =D35/1000 -> 0.08 | F35: =SUM(E35*INGREDIENTS!$D$13/1) -> 0.16 | H35: % DE MARGE BRUTE | J35: 6.4
D36: 40 | E36: =D36/1000 -> 0.04 | F36: =SUM(E36*INGREDIENTS!$D$19/1) -> 0.08 | H36: PRIX DE VENTE TTC à 5,5% | J36: =SUM((J34*J35)+J34) -> 6.6550667
D37: 20 | E37: =D37/1000 -> 0.02 | F37: =SUM(E37*INGREDIENTS!$D$28/1) -> 0.04 | H37: BENEFICES BRUTS | J37: =SUM((J36-(J32+J33))) -> 5.7557333
H38: TVA | I38: TVA déductible | J38: =SUM(J32+J33)*INGREDIENTS!$J$3 -> 0.049463333
I39: TVA Collectée | J39: =J36*INGREDIENTS!$J$3 -> 0.36602867
I40: TVA Reverssée | J40: =J39-J38 -> 0.31656533
A42: DESIGNATION | B42: GARNITURES | D42: Qt gr | E42: Kilos | F42: COUT DE REVIENT € | H42: TOTAL REVIENT GARNITURES HT à 5,5% | J42: =SUM(F43:F49) -> 0.74
D43: 50 | E43: =D43/1000 -> 0.05 | F43: =SUM(E43*INGREDIENTS!$D$4/1) -> 0.1 | H43: TOTAL REVIENT PATON HT à 5,5% | J43: =INGREDIENTS!$N$11 -> 0.31933333
D44: 100 | E44: =D44/1000 -> 0.1 | F44: =SUM(E44*INGREDIENTS!$D$6/1) -> 0.2 | H44: TOTAL PRIX DE REVIENT | J44: =SUM(J42+J43) -> 1.0593333
...

Sheet BASES BLANCHES
A1: DESIGNATION | B1: GARNITURES | D1: Qt gr | E1: Kilos | F1: COUT DE REVIENT € | H1: TOTAL REVIENT GARNITURES HT à 5,5% | J1: =SUM(F2:F8) -> 0.804 | M1: Prix moyen des Pizzas Blanches | Q1: =SUM(J5,J15,J25,J35,J45,J55,J65,J75)/8 -> 4.2504812
A2: recette 1 | B2: Crème | D2: 70 | E2: =D2/1000 -> 0.07 | F2: =SUM(E2*INGREDIENTS!$D$5/1) -> 0.14 | H2: TOTAL REVIENT PATON HT à 5,5% | J2: =INGREDIENTS!$N$11 -> 0.31933333 | M2: Cout moyen des matière 1eres | Q2: =(J3+J13+J23+J33+J43+J53+J63+J73)/8 -> 0.87983333
B3: Mozzarella | D3: 80 | E3: =D3/1000 -> 0.08 | F3: =SUM(E3*INGREDIENTS!$D$6/1) -> 0.16 | H3: TOTAL PRIX DE REVIENT | J3: =SUM(J1+J2) -> 1.1233333
F4: =SUM(E4*INGREDIENTS!$D$19/1) -> 0 | H4: % DE MARGE BRUTE | J4: 3.7
B5: Poulet | D5: 150 | E5: =D5/1000 -> 0.15 | F5: =SUM(E5*INGREDIENTS!$D$34/1) -> 0.3 | H5: PRIX DE VENTE TTC à 5,5% | J5: =SUM((J3*J4)+J3) -> 5.2796667 | M5: PIZZA | N5: Marges B | O5: Bénéfices b | P5: Prix de vente | Q5: Prix de revient
B6: Ananas | D6: 80 | E6: =D6/1000 -> 0.08 | F6: =SUM(E6*INGREDIENTS!$D$32/1) -> 0.16 | H6: BENEFICES BRUTS | J6: =SUM((J5-(J1+J2))) -> 4.1563333 | M6: recette 1 | N6: =J4 -> 3.7 | O6: =J6 -> 4.1563333 | P6: =J5 -> 5.2796667 | Q6: =J3 -> 1.1233333
B7: Curry | D7: 2 | E7: =D7/1000 -> 0.002 | F7: =SUM(E7*INGREDIENTS!$D$44/1) -> 0.004 | H7: TVA | I7: TVA déductible | J7: =SUM(J1+J2)*INGREDIENTS!$J$3 -> 0.061783333 | M7: recette 2 | N7: =J14 -> 4.09 | O7: =J16 -> 3.8827733 | P7: =J15 -> 4.8321067 | Q7: =J13 -> 0.94933333
B8: Olives Noires | D8: 20 | E8: =D8/1000 -> 0.02 | F8: =SUM(E8*INGREDIENTS!$D$29/1) -> 0.04 | I8: TVA Collectée | J8: =J5*INGREDIENTS!$J$3 -> 0.29038167 | M8: recette 3 | N8: =J24 -> 4.465 | O8: =J26 -> 3.9262233 | P8: =J25 -> 4.8055567 | Q8: =J23 -> 0.87933333
I9: TVA Reverssée | J9: =J8-J7 -> 0.22859833 | M9: recette 4 | N9: =J34 -> 2.7 | O9: =J36 -> 2.4552 | P9: =J35 -> 3.3645333 | Q9: =J33 -> 0.90933333
M10: recette 5 | N10: =J44 -> 3.92 | O10: =J46 -> 3.7605867 | P10: =J45 -> 4.71992 | Q10: =J43 -> 0.95933333
A11: DESIGNATION | B11: GARNITURES | D11: Qt gr | E11: Kilos | F11: COUT DE REVIENT € | H11: TOTAL REVIENT GARNITURES HT à 5,5% | J11: =SUM(F12:F18) -> 0.63 | M11: recette 6 | N11: =J54 -> 4.2 | O11: =J56 -> 2.9372 | P11: =J55 -> 3.6365333 | Q11: =J53 -> 0.69933333
D12: 50 | E12: =D12/1000 -> 0.05 | F12: =SUM(E12*INGREDIENTS!$D$5/1) -> 0.1 | H12: TOTAL REVIENT PATON HT à 5,5% | J12: =INGREDIENTS!$N$11 -> 0.31933333 | M12: recette 7 | N12: =J44 -> 3.92 | O12: =J66 -> 3.1512333 | P12: =J65 -> 3.9105667 | Q12: =J63 -> 0.75933333
D13: 80 | E13: =D13/1000 -> 0.08 | F13: =SUM(E13*INGREDIENTS!$D$6/1) -> 0.16 | H13: TOTAL PRIX DE REVIENT | J13: =SUM(J11+J12) -> 0.94933333 | M13: recette 8 | N13: =J74 -> 3.55 | O13: =J76 -> 2.6956333 | P13: =J75 -> 3.4549667 | Q13: =J73 -> 0.75933333
D14: 100 | E14: =D14/1000 -> 0.1 | F14: =SUM(E14*INGREDIENTS!$D$9/1) -> 0.2 | H14: % DE MARGE BRUTE | J14: 4.09
D15: 40 | E15: =D15/1000 -> 0.04 | F15: =SUM(E15*INGREDIENTS!$D$19/1) -> 0.08 | H15: PRIX DE VENTE TTC à 5,5% | J15: =SUM((J13*J14)+J13) -> 4.8321067
D16: 20 | E16: =D16/1000 -> 0.02 | F16: =SUM(E16*INGREDIENTS!$D$29/1) -> 0.04 | H16: BENEFICES BRUTS | J16: =SUM((J15-(J11+J12))) -> 3.8827733
D17: 15 | E17: =D17/1000 -> 0.015 | F17: =SUM(E17*INGREDIENTS!D31/1) -> 0.03 | H17: TVA | I17: TVA déductible | J17: =SUM(J11+J12)*INGREDIENTS!$J$3 -> 0.052213333
D18: 10 | E18: =D18/1000 -> 0.01 | F18: =SUM(E18*INGREDIENTS!$D$24/1) -> 0.02 | I18: TVA Collectée | J18: =J15*INGREDIENTS!$J$3 -> 0.26576587
I19: TVA Reverssée | J19: =J18-J17 -> 0.21355253
A21: DESIGNATION | B21: GARNITURES | D21: Qt gr | E21: Kilos | F21: COUT DE REVIENT € | H21: TOTAL REVIENT GARNITURES HT à 5,5% | J21: =SUM(F22:F28) -> 0.56
D22: 70 | E22: =D22/1000 -> 0.07 | F22: =SUM(E22*INGREDIENTS!$D$5/1) -> 0.14 | H22: TOTAL REVIENT PATON HT à 5,5% | J22: =INGREDIENTS!$N$11 -> 0.31933333
D23: 80 | E23: =D23/1000 -> 0.08 | F23: =SUM(E23*INGREDIENTS!$D$6/1) -> 0.16 | H23: TOTAL PRIX DE REVIENT | J23: =SUM(J21+J22) -> 0.87933333
D24: 40 | E24: =D24/1000 -> 0.04 | F24: =SUM(E24*INGREDIENTS!$D$18/1) -> 0.08 | H24: % DE MARGE BRUTE | J24: 4.465
D25: 40 | E25: =D25/1000 -> 0.04 | F25: =SUM(E25*INGREDIENTS!$D$8/1) -> 0.08 | H25: PRIX DE VENTE TTC à 5,5% | J25: =SUM((J23*J24)+J23) -> 4.8055567
D26: 50 | E26: =D26/1000 -> 0.05 | F26: =SUM(E26*INGREDIENTS!$D$24/1) -> 0.1 | H26: BENEFICES BRUTS | J26: =SUM((J25-(J21+J22))) -> 3.9262233
H27: TVA | I27: TVA déductible | J27: =SUM(J21+J22)*INGREDIENTS!$J$3 -> 0.048363333
I28: TVA Collectée | J28: =J25*INGREDIENTS!$J$3 -> 0.26430562
I29: TVA Reverssée | J29: =J28-J27 -> 0.21594228
A31: DESIGNATION | B31: GARNITURES | D31: Qt gr | E31: Kilos | F31: COUT DE REVIENT € | H31: TOTAL REVIENT GARNITURES HT à 5,5% | J31: =SUM(F32:F38) -> 0.59
D32: 50 | E32: =D32/1000 -> 0.05 | F32: =SUM(E32*INGREDIENTS!$D$5/1) -> 0.1 | H32: TOTAL REVIENT PATON HT à 5,5% | J32: =INGREDIENTS!$N$11 -> 0.31933333
D33: 80 | E33: =D33/1000 -> 0.08 | F33: =SUM(E33*INGREDIENTS!$D$6/1) -> 0.16 | H33: TOTAL PRIX DE REVIENT | J33: =SUM(J31+J32) -> 0.90933333
D34: 40 | E34: =D34/1000 -> 0.04 | F34: =SUM(E34*INGREDIENTS!$D$18/1) -> 0.08 | H34: % DE MARGE BRUTE | J34: 2.7
D35: 90 | E35: =D35/1000 -> 0.09 | F35: =SUM(E35*INGREDIENTS!$D$23/1) -> 0.18 | H35: PRIX DE VENTE TTC à 5,5% | J35: =SUM((J33*J34)+J33) -> 3.3645333
D36: 30 | E36: =D36/1000 -> 0.03 | F36: =SUM(E36*INGREDIENTS!$D$8/1) -> 0.06 | H36: BENEFICES BRUTS | J36: =SUM((J35-(J31+J32))) -> 2.4552
D37: 5 | E37: =D37/1000 -> 0.005 | F37: =SUM(E37*INGREDIENTS!$D$26/1) -> 0.01 | H37: TVA | I37: TVA déductible | J37: =SUM(J31+J32)*INGREDIENTS!$J$3 -> 0.050013333
I38: TVA Collectée | J38: =J35*INGREDIENTS!$J$3 -> 0.18504933
I39: TVA Reverssée | J39: =J38-J37 -> 0.135036
A41: DESIGNATION | B41: GARNITURES | D41: Qt gr | E41: Kilos | F41: COUT DE REVIENT € | H41: TOTAL REVIENT GARNITURES HT à 5,5% | J41: =SUM(F42:F48) -> 0.64
D42: 50 | E42: =D42/1000 -> 0.05 | F42: =SUM(E42*INGREDIENTS!$D$5/1) -> 0.1 | H42: TOTAL REVIENT PATON HT à 5,5% | J42: =INGREDIENTS!$N$11 -> 0.31933333
D43: 80 | E43: =D43/1000 -> 0.08 | F43: =SUM(E43*INGREDIENTS!$D$6/1) -> 0.16 | H43: TOTAL PRIX DE REVIENT | J43: =SUM(J41+J42) -> 0.95933333
...

Sheet INGREDIENTS VIERGE
A1: TYPE | B1: PRODUIT | C1: UNITE | D1: PRIX € HT | E1: MARQUE | F1: CONDITIONNER | G1: DATE
A2: Sec | B2: Farine | C2: Kg
B3: Levure | C3: Kg
A4: Bases | B4: Coulis de Tomate | C4: Kg
B5: Crème Fraiche | C5: Kg
A6: Fromages | B6: Mozzarella | C6: Kg
B7: Paremesan | C7: Kg
B8: Chèvre | C8: Kg
B9: Roquefort | C9: Kg
B10: Emmental | C10: Kg
A11: Légumes | B11: Tomates | C11: Kg
B12: Poivrons | C12: Kg
B13: Courgette | C13: Kg
B14: Piments | C14: Kg
B15: Oignons Blanc | C15: Kg
B16: Oignons Rouges | C16: Kg
B17: Echalottes | C17: Kg
B18: Ail | C18: Kg
B19: Champignon Paris | C19: Kg
B20: Cèpes | C20: Kg
B21: Roquette | C21: Kg
B22: Basilic | C22: Kg
B23: Ciboulette | C23: Kg
A24: Fruits | B24: Olives Verte | C24: Kg
B25: Olives Noir | C25: Kg
B26: Citron Jaune | C26: Kg
B27: Miel | C27: Kg
B28: Ananas | C28: Kg
A29: Viande & poissons | B29: Bœuf | C29: Kg
B30: Poulet | C30: Kg
B31: Canard magret | C31: Kg
B32: Andouillettes | C32: Kg
B33: Saumon Darnes | C33: Kg
B34: Saumon Fumé | C34: Kg
A35: Epices | B35: Sel | C35: Kg
B36: Poivre | C36: Kg
B37: Ras el hanout | C37: Kg
B38: Cury | C38: Kg
